BEGIN:VCALENDAR
VERSION:2.0
PRODID:-//Strathspey Performing Arts Centre - ECPv6.15.20//NONSGML v1.0//EN
CALSCALE:GREGORIAN
METHOD:PUBLISH
X-WR-CALNAME:Strathspey Performing Arts Centre
X-ORIGINAL-URL:https://www.strathspeyplace.com
X-WR-CALDESC:Events for Strathspey Performing Arts Centre
REFRESH-INTERVAL;VALUE=DURATION:PT1H
X-Robots-Tag:noindex
X-PUBLISHED-TTL:PT1H
BEGIN:VTIMEZONE
TZID:America/Halifax
BEGIN:DAYLIGHT
TZOFFSETFROM:-0400
TZOFFSETTO:-0300
TZNAME:ADT
DTSTART:20220313T060000
END:DAYLIGHT
BEGIN:STANDARD
TZOFFSETFROM:-0300
TZOFFSETTO:-0400
TZNAME:AST
DTSTART:20221106T050000
END:STANDARD
BEGIN:DAYLIGHT
TZOFFSETFROM:-0400
TZOFFSETTO:-0300
TZNAME:ADT
DTSTART:20230312T060000
END:DAYLIGHT
BEGIN:STANDARD
TZOFFSETFROM:-0300
TZOFFSETTO:-0400
TZNAME:AST
DTSTART:20231105T050000
END:STANDARD
BEGIN:DAYLIGHT
TZOFFSETFROM:-0400
TZOFFSETTO:-0300
TZNAME:ADT
DTSTART:20240310T060000
END:DAYLIGHT
BEGIN:STANDARD
TZOFFSETFROM:-0300
TZOFFSETTO:-0400
TZNAME:AST
DTSTART:20241103T050000
END:STANDARD
END:VTIMEZONE
BEGIN:VEVENT
DTSTART;TZID=America/Halifax:20231103T193000
DTEND;TZID=America/Halifax:20231103T210000
DTSTAMP:20260421T174455
CREATED:20231008T201202Z
LAST-MODIFIED:20231013T013025Z
UID:3555-1699039800-1699045200@www.strathspeyplace.com
SUMMARY:WESPAC Waiting For The Parade
DESCRIPTION:Waiting For The Parade\, a light drama set in Calgary in the 1940s\, depicts a snapshot of the lives of 5 women during World War 2. Their lives are redefined with a new purpose as they do their part for the war effort by entertaining the troops\, preparing first aid and food kits\, and coping with the new reality of life while their men went overseas\, or stayed behind. Together\, they laugh and cry\, fight and dance\, and build unexpected friendships. Their journey together shows that the walking wounded are not always at the front.
URL:https://www.strathspeyplace.com/performance/wespac-waiting-for-the-parade/
LOCATION:Strathspey Performing Arts Centre\, 11156 Route 19\, Mabou\, Nova Scotia\, B0E1X0\, Canada
END:VEVENT
END:VCALENDAR