BEGIN:VCALENDAR
VERSION:2.0
PRODID:-//Strathspey Performing Arts Centre - ECPv6.15.20//NONSGML v1.0//EN
CALSCALE:GREGORIAN
METHOD:PUBLISH
X-ORIGINAL-URL:https://www.strathspeyplace.com
X-WR-CALDESC:Events for Strathspey Performing Arts Centre
REFRESH-INTERVAL;VALUE=DURATION:PT1H
X-Robots-Tag:noindex
X-PUBLISHED-TTL:PT1H
BEGIN:VTIMEZONE
TZID:America/Halifax
BEGIN:DAYLIGHT
TZOFFSETFROM:-0400
TZOFFSETTO:-0300
TZNAME:ADT
DTSTART:20220313T060000
END:DAYLIGHT
BEGIN:STANDARD
TZOFFSETFROM:-0300
TZOFFSETTO:-0400
TZNAME:AST
DTSTART:20221106T050000
END:STANDARD
BEGIN:DAYLIGHT
TZOFFSETFROM:-0400
TZOFFSETTO:-0300
TZNAME:ADT
DTSTART:20230312T060000
END:DAYLIGHT
BEGIN:STANDARD
TZOFFSETFROM:-0300
TZOFFSETTO:-0400
TZNAME:AST
DTSTART:20231105T050000
END:STANDARD
BEGIN:DAYLIGHT
TZOFFSETFROM:-0400
TZOFFSETTO:-0300
TZNAME:ADT
DTSTART:20240310T060000
END:DAYLIGHT
BEGIN:STANDARD
TZOFFSETFROM:-0300
TZOFFSETTO:-0400
TZNAME:AST
DTSTART:20241103T050000
END:STANDARD
END:VTIMEZONE
BEGIN:VEVENT
DTSTART;TZID=America/Halifax:20231208T190000
DTEND;TZID=America/Halifax:20231208T213000
DTSTAMP:20260421T161647
CREATED:20230917T005103Z
LAST-MODIFIED:20231020T014031Z
UID:3541-1702062000-1702071000@www.strathspeyplace.com
SUMMARY:Happy ha ha Holidaze!!
DESCRIPTION:Happy Ha Ha Holidaze show info performer biosThe Ha Ha Holiday show that promises to deliver plenty of la la laughter\nand some chair-dancin’\, toe-tappin musical moments. \nYou can also expect a visit from a quirky character or two\, too. If you’re\nlooking to forget about the stress of the real world for awhile\, spend\nsome time with the Holidaze crew for their unique seasonal celebration\nfull of good feelings. We’ll meet you there! CAST FEATURES: Heather\nRankin\, Jenn Sheppard\, Terrance Murphy\, Colin Grant\, Fred Lavery\,\nStephen Muise and Emily Dingwall.
URL:https://www.strathspeyplace.com/performance/happyhahaholidaze/
LOCATION:Strathspey Performing Arts Centre\, 11156 Route 19\, Mabou\, Nova Scotia\, B0E1X0\, Canada
ATTACH;FMTTYPE=image/jpeg:https://www.strathspeyplace.com/wp-content/uploads/2023/10/holidaze-cast.jpg
END:VEVENT
END:VCALENDAR