BEGIN:VCALENDAR
VERSION:2.0
PRODID:-//Strathspey Performing Arts Centre - ECPv6.15.20//NONSGML v1.0//EN
CALSCALE:GREGORIAN
METHOD:PUBLISH
X-ORIGINAL-URL:https://www.strathspeyplace.com
X-WR-CALDESC:Events for Strathspey Performing Arts Centre
REFRESH-INTERVAL;VALUE=DURATION:PT1H
X-Robots-Tag:noindex
X-PUBLISHED-TTL:PT1H
BEGIN:VTIMEZONE
TZID:America/Halifax
BEGIN:DAYLIGHT
TZOFFSETFROM:-0400
TZOFFSETTO:-0300
TZNAME:ADT
DTSTART:20240310T060000
END:DAYLIGHT
BEGIN:STANDARD
TZOFFSETFROM:-0300
TZOFFSETTO:-0400
TZNAME:AST
DTSTART:20241103T050000
END:STANDARD
BEGIN:DAYLIGHT
TZOFFSETFROM:-0400
TZOFFSETTO:-0300
TZNAME:ADT
DTSTART:20250309T060000
END:DAYLIGHT
BEGIN:STANDARD
TZOFFSETFROM:-0300
TZOFFSETTO:-0400
TZNAME:AST
DTSTART:20251102T050000
END:STANDARD
BEGIN:DAYLIGHT
TZOFFSETFROM:-0400
TZOFFSETTO:-0300
TZNAME:ADT
DTSTART:20260308T060000
END:DAYLIGHT
BEGIN:STANDARD
TZOFFSETFROM:-0300
TZOFFSETTO:-0400
TZNAME:AST
DTSTART:20261101T050000
END:STANDARD
END:VTIMEZONE
BEGIN:VEVENT
DTSTART;TZID=America/Halifax:20250704T193000
DTEND;TZID=America/Halifax:20250704T220000
DTSTAMP:20260420T072040
CREATED:20250516T231643Z
LAST-MODIFIED:20250623T224739Z
UID:3699-1751657400-1751666400@www.strathspeyplace.com
SUMMARY:KitchenFest: Squares Dancing in '69
DESCRIPTION:It’s New Years Eve 1969 and Johnny Cool (Jamie Collins) and Claudine (Anne Gillis) are on the stage! There’s electricity in the air after a decade of free love and political upheavals that has reached even into rural Cape Breton. So much has changed since televisions started dominating even in ceilidh houses. The Pig’n’Whistle show\, which has inspired country music and Irish music at the dances with the bar right in the hall rather than out in the parking lot\, has put square dances out of fashion. \nThat doesn’t sit well with the MacAulay sisters (Brenda MacLennan-Dunphy\, Elizabeth Matheson and Darlene Ellis)\, but they can’t resist coming out to this new type of dance\, even with the bar\, to spend the end of the decade with their neighbours. Alec Pat (Steve MacDougall) and Dan Peter (Robert Pringle) are going to be there too\, and well\, Dan Peter has been taking in a lot of that “hippie” talk\, and that doesn’t always sit well with Alec Pat\, but then again\, what does? The young crew (Siobhan Beaton\, Lauren Boyd\, Rebecca Dunphy\, Martin Thomsen\, and Theo Feehan-Peters) are looking at the ‘70’s as a time of new beginnings\, but what will that mean for them? \nFrom Ring of Fire to Time Gentlemen Please\, it’s going to be a jam-packed evening of entertainment! Tickets available here.
URL:https://www.strathspeyplace.com/performance/kitchenfest-squares-dancing-in-69/
LOCATION:Strathspey Performing Arts Centre\, 11156 Route 19\, Mabou\, Nova Scotia\, B0E1X0\, Canada
END:VEVENT
END:VCALENDAR