BEGIN:VCALENDAR
VERSION:2.0
PRODID:-//Strathspey Performing Arts Centre - ECPv6.15.20//NONSGML v1.0//EN
CALSCALE:GREGORIAN
METHOD:PUBLISH
X-WR-CALNAME:Strathspey Performing Arts Centre
X-ORIGINAL-URL:https://www.strathspeyplace.com
X-WR-CALDESC:Events for Strathspey Performing Arts Centre
REFRESH-INTERVAL;VALUE=DURATION:PT1H
X-Robots-Tag:noindex
X-PUBLISHED-TTL:PT1H
BEGIN:VTIMEZONE
TZID:America/Halifax
BEGIN:DAYLIGHT
TZOFFSETFROM:-0400
TZOFFSETTO:-0300
TZNAME:ADT
DTSTART:20240310T060000
END:DAYLIGHT
BEGIN:STANDARD
TZOFFSETFROM:-0300
TZOFFSETTO:-0400
TZNAME:AST
DTSTART:20241103T050000
END:STANDARD
BEGIN:DAYLIGHT
TZOFFSETFROM:-0400
TZOFFSETTO:-0300
TZNAME:ADT
DTSTART:20250309T060000
END:DAYLIGHT
BEGIN:STANDARD
TZOFFSETFROM:-0300
TZOFFSETTO:-0400
TZNAME:AST
DTSTART:20251102T050000
END:STANDARD
BEGIN:DAYLIGHT
TZOFFSETFROM:-0400
TZOFFSETTO:-0300
TZNAME:ADT
DTSTART:20260308T060000
END:DAYLIGHT
BEGIN:STANDARD
TZOFFSETFROM:-0300
TZOFFSETTO:-0400
TZNAME:AST
DTSTART:20261101T050000
END:STANDARD
END:VTIMEZONE
BEGIN:VEVENT
DTSTART;TZID=America/Halifax:20251002T193000
DTEND;TZID=America/Halifax:20251002T213000
DTSTAMP:20260420T020053
CREATED:20250811T002909Z
LAST-MODIFIED:20250811T002909Z
UID:3712-1759433400-1759440600@www.strathspeyplace.com
SUMMARY:The Ennis Sisters--On We Go
DESCRIPTION:Join us in Mabou for a night of sweet\, soulful music from this JUNO award-winning Newfoundland trio! For one night only\, October 2nd at 7:30\, these ECMA winners are joining us at Strathspey place. Tickets will sell out quick so make sure to pick some up!  \nTickets can be found here.
URL:https://www.strathspeyplace.com/performance/the-ennis-sisters-on-we-go/
END:VEVENT
END:VCALENDAR