BEGIN:VCALENDAR
VERSION:2.0
PRODID:-//Strathspey Performing Arts Centre - ECPv6.15.20//NONSGML v1.0//EN
CALSCALE:GREGORIAN
METHOD:PUBLISH
X-WR-CALNAME:Strathspey Performing Arts Centre
X-ORIGINAL-URL:https://www.strathspeyplace.com
X-WR-CALDESC:Events for Strathspey Performing Arts Centre
REFRESH-INTERVAL;VALUE=DURATION:PT1H
X-Robots-Tag:noindex
X-PUBLISHED-TTL:PT1H
BEGIN:VTIMEZONE
TZID:America/Halifax
BEGIN:DAYLIGHT
TZOFFSETFROM:-0400
TZOFFSETTO:-0300
TZNAME:ADT
DTSTART:20240310T060000
END:DAYLIGHT
BEGIN:STANDARD
TZOFFSETFROM:-0300
TZOFFSETTO:-0400
TZNAME:AST
DTSTART:20241103T050000
END:STANDARD
BEGIN:DAYLIGHT
TZOFFSETFROM:-0400
TZOFFSETTO:-0300
TZNAME:ADT
DTSTART:20250309T060000
END:DAYLIGHT
BEGIN:STANDARD
TZOFFSETFROM:-0300
TZOFFSETTO:-0400
TZNAME:AST
DTSTART:20251102T050000
END:STANDARD
BEGIN:DAYLIGHT
TZOFFSETFROM:-0400
TZOFFSETTO:-0300
TZNAME:ADT
DTSTART:20260308T060000
END:DAYLIGHT
BEGIN:STANDARD
TZOFFSETFROM:-0300
TZOFFSETTO:-0400
TZNAME:AST
DTSTART:20261101T050000
END:STANDARD
BEGIN:DAYLIGHT
TZOFFSETFROM:-0400
TZOFFSETTO:-0300
TZNAME:ADT
DTSTART:20270314T060000
END:DAYLIGHT
BEGIN:STANDARD
TZOFFSETFROM:-0300
TZOFFSETTO:-0400
TZNAME:AST
DTSTART:20271107T050000
END:STANDARD
END:VTIMEZONE
BEGIN:VEVENT
DTSTART;TZID=America/Halifax:20251218T193000
DTEND;TZID=America/Halifax:20251218T210000
DTSTAMP:20260420T000802
CREATED:20251029T152536Z
LAST-MODIFIED:20251201T180942Z
UID:3741-1766086200-1766091600@www.strathspeyplace.com
SUMMARY:Jon Bryant: Maritime Mistletoe
DESCRIPTION:Jon Bryant is a Halifax-born\, Vancouver-based folk singer who wonderfully blends a classic Maritime feel with the best of Canada’s indie. \nJon Bryant is coming to Mabou! \nAn ECMA-nominated folk singer/songwriter who was declared iTunes Canada’s “Featured Singer/Songwriter\,” Jon Bryant has released five albums and performed at the Junos. You may know him from his acting career\, too\, appearing in hit shows like Smoke\, Searching For A Serial Killer: The Regina Smith Story\, and Arrow. He’s ready to give us a night of emotional\, evocative folk music! Tickets are $30\, and doors open at 7:00 PM.
URL:https://www.strathspeyplace.com/performance/jon-bryant-a-night-of-maritime-folk/
LOCATION:Strathspey Performing Arts Centre\, 11156 Route 19\, Mabou\, Nova Scotia\, B0E1X0\, Canada
END:VEVENT
BEGIN:VEVENT
DTSTART;TZID=America/Halifax:20260220T190000
DTEND;TZID=America/Halifax:20260220T203000
DTSTAMP:20260420T000802
CREATED:20251212T180513Z
LAST-MODIFIED:20251212T181601Z
UID:3754-1771614000-1771619400@www.strathspeyplace.com
SUMMARY:Ian Stewart--Hypnotist
DESCRIPTION:Get ready for a night of non-stop laughs and mind-bending fun! On February 20\, Strathspey Place welcomes Ian Stewart\, one of North America’s top comedic hypnotists\, for a high-energy show unlike anything you’ve seen before. \nAudiences can expect a fast-paced\, interactive performance where volunteers become the stars. Ian guides participants through hilarious hypnotic scenarios\, spontaneous reactions\, and unpredictable moments that keep the entire crowd laughing. Every show is completely unique! \nThis is a full hypnosis and comedy experience\, making it the perfect night out for families\, friends\, and anyone who loves live entertainment. \nCome ready to laugh\, be amazed\, and maybe even be part of the show!\n Tickets available here:  \nhttps://www.eventbrite.ca/e/ian-stewart-hypnotist-registration-1977459779432?aff=oddtdtcreator
URL:https://www.strathspeyplace.com/performance/ian-stewart-hypnotist/
END:VEVENT
BEGIN:VEVENT
DTSTART;TZID=America/Halifax:20260330T180000
DTEND;TZID=America/Halifax:20260330T190000
DTSTAMP:20260420T000802
CREATED:20251217T003940Z
LAST-MODIFIED:20260214T194855Z
UID:3769-1774893600-1774897200@www.strathspeyplace.com
SUMMARY:Frozen In Time
DESCRIPTION:Join your two favourite princesses for a truly magical experience! This enchanting event features delightful storytelling and sing-along performances to all your favourite songs. It’s the perfect family outing\, designed for children of all ages to enjoy together. To add to the fun\, guests are encouraged to come dressed as their favourite prince\, princess\, character or even a villain!\n\n\nFor those looking to make the afternoon extra special\, a limited number of VIP tickets are available. VIP guests will enjoy reserved VIP seating along with an exclusive meet-and-greet with the stars of the show. \n\nTickets available here.
URL:https://www.strathspeyplace.com/performance/frozen-in-time/
END:VEVENT
BEGIN:VEVENT
DTSTART;TZID=America/Halifax:20260606T193000
DTEND;TZID=America/Halifax:20260606T210000
DTSTAMP:20260420T000802
CREATED:20260302T175841Z
LAST-MODIFIED:20260302T175901Z
UID:3807-1780774200-1780779600@www.strathspeyplace.com
SUMMARY:J.P. Cormier
DESCRIPTION:Cape Breton legend JP Cormier delivers masterful guitar\, fiddle\, and stories—an unforgettable night of Celtic roots and energy. \nJP Cormier is one of Canada’s most gifted and genre-defying musicians—an extraordinary guitarist\, fiddler\, multi-instrumentalist\, songwriter\, and storyteller. From deep roots in Cape Breton tradition to bluegrass\, folk\, and Americana stages across North America\, his career spans decades of award-winning recordings and unforgettable performances. Touring solo with just his instruments\, JP delivers a show that is powerful\, surprising\, funny\, and deeply human—leaving audiences amazed and talking long after the final note. \nTickets available here: https://www.eventbrite.ca/e/jp-cormier-registration-1980147588742?aff=erellivmlt
URL:https://www.strathspeyplace.com/performance/j-p-cormier/
END:VEVENT
BEGIN:VEVENT
DTSTART;TZID=America/Halifax:20260911T193000
DTEND;TZID=America/Halifax:20260911T213000
DTSTAMP:20260420T000802
CREATED:20251217T003713Z
LAST-MODIFIED:20251217T003713Z
UID:3767-1789155000-1789162200@www.strathspeyplace.com
SUMMARY:Country Boys Tribute
DESCRIPTION:Country Boys Tribute Show — A Tribute to Four Country Legends\nStrathspey is thrilled to welcome the Country Boys Tribute Show\, delivering the unforgettable hits of Alan Jackson\, Garth Brooks\, Brad Paisley\, and George Strait in one incredible night of live music. \nThis high-energy performance features outstanding vocals\, rich harmonies\, and a full band of seasoned musicians who recreate the sound\, feel\, and excitement of true classic country. From “Chattahoochee” and “Mud on the Tires” to “The Fireman” and “Friends in Low Places\,” you’ll hear the songs that shaped generations of country fans. \nWhether you love old-school country\, modern favorites\, or just a great night out with friends\, this tribute show brings it all — authenticity\, nostalgia\, and a whole lot of fun.
URL:https://www.strathspeyplace.com/performance/country-boys-tribute/
END:VEVENT
BEGIN:VEVENT
DTSTART;TZID=America/Halifax:20261007T193000
DTEND;TZID=America/Halifax:20261007T213000
DTSTAMP:20260420T000802
CREATED:20251212T180941Z
LAST-MODIFIED:20260302T175522Z
UID:3758-1791401400-1791408600@www.strathspeyplace.com
SUMMARY:Don Ross and Julie Malia
DESCRIPTION:Don Ross & Julie Malia combine world-class guitar and heartfelt songwriting\, creating a dynamic duo captivating audiences across the globe \nAcclaimed solo artists Don Ross and Julie Malia have joined forces to create a dynamic musical partnership that showcases their world-class artistry. Since 2023\, the pair have toured extensively across Europe and North America\, performing a mix of solo and duo sets that highlight their exceptional guitar work\, compelling songwriting\, and captivating stage presence. \nDon Ross\, a pioneering Canadian guitarist with 18 solo albums and numerous international accolades\, continues to push artistic boundaries through innovative collaborations and orchestral scoring. His latest album\, WATER\, features an impressive lineup of guest artists and marks his fully independent release. \nGerman guitarist and singer Julie Malia (Jule Malischke) has become one of Europe’s most in-demand acoustic performers\, admired for her versatility\, virtuosity\, and expressive voice. Her recent album Seagull earned a nomination for the German Record Critics’ Prize. \nTogether\, Don and Julie create a powerful and engaging concert experience\, blending masterful musicianship\, diverse styles\, and genuine chemistry onstage! \nTickets available here: https://www.eventbrite.ca/e/don-ross-and-juile-malia-registration-1977468200620?aff=oddtdtcreator
URL:https://www.strathspeyplace.com/performance/don-ross-and-julie-malia/
END:VEVENT
END:VCALENDAR