BEGIN:VCALENDAR
VERSION:2.0
PRODID:-//Strathspey Performing Arts Centre - ECPv6.15.20//NONSGML v1.0//EN
CALSCALE:GREGORIAN
METHOD:PUBLISH
X-ORIGINAL-URL:https://www.strathspeyplace.com
X-WR-CALDESC:Events for Strathspey Performing Arts Centre
REFRESH-INTERVAL;VALUE=DURATION:PT1H
X-Robots-Tag:noindex
X-PUBLISHED-TTL:PT1H
BEGIN:VTIMEZONE
TZID:America/Halifax
BEGIN:DAYLIGHT
TZOFFSETFROM:-0400
TZOFFSETTO:-0300
TZNAME:ADT
DTSTART:20230312T060000
END:DAYLIGHT
BEGIN:STANDARD
TZOFFSETFROM:-0300
TZOFFSETTO:-0400
TZNAME:AST
DTSTART:20231105T050000
END:STANDARD
BEGIN:DAYLIGHT
TZOFFSETFROM:-0400
TZOFFSETTO:-0300
TZNAME:ADT
DTSTART:20240310T060000
END:DAYLIGHT
BEGIN:STANDARD
TZOFFSETFROM:-0300
TZOFFSETTO:-0400
TZNAME:AST
DTSTART:20241103T050000
END:STANDARD
BEGIN:DAYLIGHT
TZOFFSETFROM:-0400
TZOFFSETTO:-0300
TZNAME:ADT
DTSTART:20250309T060000
END:DAYLIGHT
BEGIN:STANDARD
TZOFFSETFROM:-0300
TZOFFSETTO:-0400
TZNAME:AST
DTSTART:20251102T050000
END:STANDARD
END:VTIMEZONE
BEGIN:VEVENT
DTSTART;TZID=America/Halifax:20241122T193000
DTEND;TZID=America/Halifax:20241122T220000
DTSTAMP:20260420T192628
CREATED:20241017T165117Z
LAST-MODIFIED:20241017T170623Z
UID:3621-1732303800-1732312800@www.strathspeyplace.com
SUMMARY:Squares Dancing in ‘69
DESCRIPTION:It’s New Years Eve 1969 and Johnny Cool (Jamie Collins) and Claudine (Anne Gillis) are on the stage! There’s electricity in the air after a decade of free love and political upheavals that has reached even into rural Cape Breton. So much has changed since televisions started dominating even in ceilidh houses. The Pig’n’Whistle show\, which has inspired country music and Irish music at the dances with the bar right in the hall rather than out in the parking lot\, has put square dances out of fashion. That doesn’t sit well with the MacAulay sisters (Jacqueline Boyd\, Elizabeth Matheson and= Darlene Ellis)\, but they can’t resist coming out to this new type of dance\, even with the bar\, to spend the end of the decade with their neighbours. Alec Pat (Lawrence Cameron) and Dan Peter (Robert Pringle) are going to be there too\, and well\, Dan Peter has been taking in a lot of that “hippie” talk\, and that doesn’t always sit well with Alec Pat\, but then again\, what does? The young crew (Siobhan Beaton\, Kristen Boyd\, Rebecca Dunphy\, Adam MacNeil and Ryan Ehler) are looking at the ‘70’s as a time of new beginnings\, but what will that mean for them? From Ring of Fire to Time Gentlemen Please\, it’s going to be a jam-packed evening of entertainment\, so get your tickets and come to Strathspey Performing Arts Centre in Mabou on November 22 nd or 23 rd at 7:30 to be part of it all. Reserved seating tickets are available on Eventbrite. Just search “Eventbrite Squares Dancing in ’69” plus the night you want\, and you can find it easily. Strathspey Performing Arts Centre is trying out a different way of selling tickets which will be hopefully a lot smoother to use. Please get in touch with SP if you have any problems. See you at the theatre!
URL:https://www.strathspeyplace.com/performance/squares-dancing-in-69/
LOCATION:Strathspey Performing Arts Centre\, 11156 Route 19\, Mabou\, Nova Scotia\, B0E1X0\, Canada
ATTACH;FMTTYPE=image/jpeg:https://www.strathspeyplace.com/wp-content/uploads/2024/10/Squares-Dancing-in-69-poster.jpg
END:VEVENT
BEGIN:VEVENT
DTSTART;TZID=America/Halifax:20241123T193000
DTEND;TZID=America/Halifax:20241123T220000
DTSTAMP:20260420T192628
CREATED:20241017T165830Z
LAST-MODIFIED:20241017T170544Z
UID:3628-1732390200-1732399200@www.strathspeyplace.com
SUMMARY:Squares Dancing in ‘69
DESCRIPTION:It’s New Years Eve 1969 and Johnny Cool (Jamie Collins) and Claudine (Anne Gillis) are on the stage! There’s electricity in the air after a decade of free love and political upheavals that has reached even into rural Cape Breton. So much has changed since televisions started dominating even in ceilidh houses. The Pig’n’Whistle show\, which has inspired country music and Irish music at the dances with the bar right in the hall rather than out in the parking lot\, has put square dances out of fashion. That doesn’t sit well with the MacAulay sisters (Jacqueline Boyd\, Elizabeth Matheson and= Darlene Ellis)\, but they can’t resist coming out to this new type of dance\, even with the bar\, to spend the end of the decade with their neighbours. Alec Pat (Lawrence Cameron) and Dan Peter (Robert Pringle) are going to be there too\, and well\, Dan Peter has been taking in a lot of that “hippie” talk\, and that doesn’t always sit well with Alec Pat\, but then again\, what does? The young crew (Siobhan Beaton\, Kristen Boyd\, Rebecca Dunphy\, Adam MacNeil and Ryan Ehler) are looking at the ‘70’s as a time of new beginnings\, but what will that mean for them? From Ring of Fire to Time Gentlemen Please\, it’s going to be a jam-packed evening of entertainment\, so get your tickets and come to Strathspey Performing Arts Centre in Mabou on November 22 nd or 23 rd at 7:30 to be part of it all. Reserved seating tickets are available on Eventbrite. Just search “Eventbrite Squares Dancing in ’69” plus the night you want\, and you can find it easily. Strathspey Performing Arts Centre is trying out a different way of selling tickets which will be hopefully a lot smoother to use. Please get in touch with SP if you have any problems. See you at the theatre!
URL:https://www.strathspeyplace.com/performance/squares-dancing-in-69-2/
LOCATION:Strathspey Performing Arts Centre\, 11156 Route 19\, Mabou\, Nova Scotia\, B0E1X0\, Canada
ATTACH;FMTTYPE=image/jpeg:https://www.strathspeyplace.com/wp-content/uploads/2024/10/Squares-Dancing-in-69-poster-1.jpg
END:VEVENT
BEGIN:VEVENT
DTSTART;TZID=America/Halifax:20241130T190000
DTEND;TZID=America/Halifax:20241130T220000
DTSTAMP:20260420T192628
CREATED:20241017T233303Z
LAST-MODIFIED:20241017T233303Z
UID:3644-1732993200-1733004000@www.strathspeyplace.com
SUMMARY:Tyler Mullendore - Album Release w/ Abbey Mullendore
DESCRIPTION:Tyler & The Band celebrate the release of “Time Heals Everything”\, his debut EP; featuring special guests Abbey Mullendore & The Luxtones. \nAbout This Event:\nJoin us on November 30th at Strathspey Place in Mabou for an unforgettable night celebrating with Tyler & The Band for the release of “Time Heals Everything”; his debut EP. It also marks the release of the album’s 3rd single & video\, “Mama Cry”\, which will be presented at the show! \nWarming up the stage will be his amazingly talented sister\, Abbey Mullendore & The Luxtones! Abbey will also join her brother\, Tyler on stage later in the show for a special featured performance\, showcasing their many years of harmonious siblingship\, and musical chemistry. \nExpect an evening filled with incredible music\, door prizes\, and Tyler’s merchandise for sale; maybe a few laughs as well in proper Cape Breton fashion. There will also be a bar on-site to enjoy refreshments throughout the evening. \nLet’s make this a memorable celebration of local talent and music! Stay tuned for more details and get ready to support Tyler and Abbey as they come home to thier roots\, and light up the stage at Strathspey Place. \nTYLER MULLENDORE\nBorn from the soul of Cape Breton soil\, Tyler Mullendore blends rough and tumble roots rock with the electrified emotion of southern fried Americana. Tyler pays forward the heart-wrenching wistfulness of Bob Seger and the lyrical introspection of John Prine with a classic rock pulse that’s made all the more compelling by the remarkable band behind him. \nThe Canadian Idol finalist proves why he was awarded the top spot in eOne’s national “Big Break” songwriting competition; it’s clear the judges were just as taken with the authenticity of his songs as you’re sure to be. \nABBEY MULLENDORE\nAbbey Mullendore brings the thunder to every stage she steps foot on; from family gatherings in rural Cape Breton\, to Massey Hall in Toronto. She flourishes in everything she does; whether it’s her thriving organic mushroom business\, being “Mom” to her 2 beautiful daughters\, or traveling North America with the highly acclaimed “Classic Albums Live” – filling the shoes of Stevie Nicks on the “Fleetwood Mac Rumours” tour. \nAbbey carries a strength and energy that few can match; bringing warmth and connection to anyone in her path. She is the younger sister and Irish twin of Tyler Mullendore\, and has been his partner in crime and in music since it all began. Like her brother\, she burns with the same flame that fuels her passion\, and is born from the same soil that nurtured her soul. A talented songstress in her own right and an equally formidable performer; to watch her sing is to witness someone truly alive in their element. After the curtains close and the music fades\, a lasting impression remains\, as Abbey’s presence is not just heard\, but felt in the moments that linger in the hearts of the listener.
URL:https://www.strathspeyplace.com/performance/tyler-mullendore-album-release-w-abbey-mullendore/
LOCATION:Strathspey Performing Arts Centre\, 11156 Route 19\, Mabou\, Nova Scotia\, B0E1X0\, Canada
ATTACH;FMTTYPE=image/jpeg:https://www.strathspeyplace.com/wp-content/uploads/2024/10/Tyler-Keiths-1.9.jpg
END:VEVENT
END:VCALENDAR