BEGIN:VCALENDAR
VERSION:2.0
PRODID:-//Strathspey Performing Arts Centre - ECPv6.15.20//NONSGML v1.0//EN
CALSCALE:GREGORIAN
METHOD:PUBLISH
X-WR-CALNAME:Strathspey Performing Arts Centre
X-ORIGINAL-URL:https://www.strathspeyplace.com
X-WR-CALDESC:Events for Strathspey Performing Arts Centre
REFRESH-INTERVAL;VALUE=DURATION:PT1H
X-Robots-Tag:noindex
X-PUBLISHED-TTL:PT1H
BEGIN:VTIMEZONE
TZID:America/Halifax
BEGIN:DAYLIGHT
TZOFFSETFROM:-0400
TZOFFSETTO:-0300
TZNAME:ADT
DTSTART:20240310T060000
END:DAYLIGHT
BEGIN:STANDARD
TZOFFSETFROM:-0300
TZOFFSETTO:-0400
TZNAME:AST
DTSTART:20241103T050000
END:STANDARD
BEGIN:DAYLIGHT
TZOFFSETFROM:-0400
TZOFFSETTO:-0300
TZNAME:ADT
DTSTART:20250309T060000
END:DAYLIGHT
BEGIN:STANDARD
TZOFFSETFROM:-0300
TZOFFSETTO:-0400
TZNAME:AST
DTSTART:20251102T050000
END:STANDARD
BEGIN:DAYLIGHT
TZOFFSETFROM:-0400
TZOFFSETTO:-0300
TZNAME:ADT
DTSTART:20260308T060000
END:DAYLIGHT
BEGIN:STANDARD
TZOFFSETFROM:-0300
TZOFFSETTO:-0400
TZNAME:AST
DTSTART:20261101T050000
END:STANDARD
END:VTIMEZONE
BEGIN:VEVENT
DTSTART;TZID=America/Halifax:20250831T200000
DTEND;TZID=America/Halifax:20250831T220000
DTSTAMP:20260420T035647
CREATED:20250513T191246Z
LAST-MODIFIED:20250705T211505Z
UID:3686-1756670400-1756677600@www.strathspeyplace.com
SUMMARY:"Hello Again...Again"
DESCRIPTION:The cast and crew are excited to bring ‘Hello Again  …Again’ with the music of Neil Diamond to Strathspey Place’s beautiful theatre. The show just finished a run in Halifax\, where it played to sold out audiences\, with rousing standing ovations and rave reviews. \n“ We had so much fun and were totally blown away. Every minute was fun \, haunting\, interesting\, and a pleasure to the ears.”  \n“ An outstanding show!” \n“I left humming and singing my favourite songs\, and I continued to do so all night .” \n“The band was …just wow!” \n“I hope many\, many more people get to enjoy it .” \nSean Andrews’ amazing voice and command of the stage has masterfully intertwined his own words with the lyrics and music of Neil Diamond. The show is his personal story told through the music of Neil Diamond\, giving us another look at how a performer like Neil Diamond can affect so many people’s lives. It is a true testament to how music can take you back to a moment in your life\, and help you get through the ups and downs of of this journey we are all on. \n  Director Edmund MacLean\, who’s other directing credits (Boardwalk Productions) performed at Strathspey Place include ‘Woodstock- A Time Of Love And Peace’\, ‘Hello\, My Name Is Johnny Cash’\, ‘Canadian Legends’\, ‘Roy Orbison- In Dreams’\, ‘Elton John’s Song Book’\, and most recently\, ‘A Walk Down Memory Lane with Patsy Cline’ \nTickets available here.
URL:https://www.strathspeyplace.com/performance/hello-again-again/
LOCATION:Strathspey Performing Arts Centre\, 11156 Route 19\, Mabou\, Nova Scotia\, B0E1X0\, Canada
END:VEVENT
END:VCALENDAR