BEGIN:VCALENDAR
VERSION:2.0
PRODID:-//Strathspey Performing Arts Centre - ECPv6.15.20//NONSGML v1.0//EN
CALSCALE:GREGORIAN
METHOD:PUBLISH
X-WR-CALNAME:Strathspey Performing Arts Centre
X-ORIGINAL-URL:https://www.strathspeyplace.com
X-WR-CALDESC:Events for Strathspey Performing Arts Centre
REFRESH-INTERVAL;VALUE=DURATION:PT1H
X-Robots-Tag:noindex
X-PUBLISHED-TTL:PT1H
BEGIN:VTIMEZONE
TZID:America/Halifax
BEGIN:DAYLIGHT
TZOFFSETFROM:-0400
TZOFFSETTO:-0300
TZNAME:ADT
DTSTART:20250309T060000
END:DAYLIGHT
BEGIN:STANDARD
TZOFFSETFROM:-0300
TZOFFSETTO:-0400
TZNAME:AST
DTSTART:20251102T050000
END:STANDARD
BEGIN:DAYLIGHT
TZOFFSETFROM:-0400
TZOFFSETTO:-0300
TZNAME:ADT
DTSTART:20260308T060000
END:DAYLIGHT
BEGIN:STANDARD
TZOFFSETFROM:-0300
TZOFFSETTO:-0400
TZNAME:AST
DTSTART:20261101T050000
END:STANDARD
BEGIN:DAYLIGHT
TZOFFSETFROM:-0400
TZOFFSETTO:-0300
TZNAME:ADT
DTSTART:20270314T060000
END:DAYLIGHT
BEGIN:STANDARD
TZOFFSETFROM:-0300
TZOFFSETTO:-0400
TZNAME:AST
DTSTART:20271107T050000
END:STANDARD
END:VTIMEZONE
BEGIN:VEVENT
DTSTART;TZID=America/Halifax:20260911T193000
DTEND;TZID=America/Halifax:20260911T213000
DTSTAMP:20260419T201133
CREATED:20251217T003713Z
LAST-MODIFIED:20251217T003713Z
UID:3767-1789155000-1789162200@www.strathspeyplace.com
SUMMARY:Country Boys Tribute
DESCRIPTION:Country Boys Tribute Show — A Tribute to Four Country Legends\nStrathspey is thrilled to welcome the Country Boys Tribute Show\, delivering the unforgettable hits of Alan Jackson\, Garth Brooks\, Brad Paisley\, and George Strait in one incredible night of live music. \nThis high-energy performance features outstanding vocals\, rich harmonies\, and a full band of seasoned musicians who recreate the sound\, feel\, and excitement of true classic country. From “Chattahoochee” and “Mud on the Tires” to “The Fireman” and “Friends in Low Places\,” you’ll hear the songs that shaped generations of country fans. \nWhether you love old-school country\, modern favorites\, or just a great night out with friends\, this tribute show brings it all — authenticity\, nostalgia\, and a whole lot of fun.
URL:https://www.strathspeyplace.com/performance/country-boys-tribute/
END:VEVENT
END:VCALENDAR